BEGIN:VCALENDAR
PRODID:-//eluceo/ical//2.0/EN
VERSION:2.0
CALSCALE:GREGORIAN
BEGIN:VEVENT
UID:d747384ab8bc45387b46869d260ed351
DTSTAMP:20260422T071052Z
SUMMARY:Chanukah Donuts and Dancing
DESCRIPTION:Jewish Federation of Greater Portland\nYoung Families\nhttps://
 jewishportland.org/young-families/doughnuts-and-dancing-193020\n\nDoughnut
 s and Dancing\n\n
DTSTART;TZID=America/Los_Angeles:20171217T140000
DTEND;TZID=America/Los_Angeles:20171217T160000
END:VEVENT
END:VCALENDAR
