BEGIN:VCALENDAR
PRODID:-//eluceo/ical//2.0/EN
VERSION:2.0
CALSCALE:GREGORIAN
BEGIN:VEVENT
UID:483cfd226ac4bd12beefacec5b2c1a86
DTSTAMP:20260421T124150Z
SUMMARY:Elementary School in the Time of COVID
DESCRIPTION:Jewish Federation of Greater Portland\nYoung Families\nhttps://
 jewishportland.org/young-families/elementary-school-in-the-time-of-covid-1
 610405141-371980\n\nJoin us as we learn about what elementary schools in o
 ur community are doing to prepare for the potential of school buildings re
 -opening in February and how they have been running school this year. We w
 ill also hear about the mental health impacts for our students and familie
 s.\n\n \n\nFeaturing speakers:\nJessica Swindle\, Principal\, Metzger Ele
 mentary School\n\nMerrill Hendin\, Principal\, PJA\n\nAviel Brodkin\, Prin
 cipal\, Maayan Torah Day School\n\nDinah Gilburd\, LCSW\, Jewish Family an
 d Child...
DTSTART;TZID=America/Los_Angeles:20210125T200000
DTEND;TZID=America/Los_Angeles:20210125T210000
END:VEVENT
END:VCALENDAR
