BEGIN:VCALENDAR
PRODID:-//eluceo/ical//2.0/EN
VERSION:2.0
CALSCALE:GREGORIAN
BEGIN:VEVENT
UID:08862720c197d0d2bc05d43c598cd243
DTSTAMP:20260420T011338Z
SUMMARY:Erev New Year's Eve at Noon
DESCRIPTION:Jewish Federation of Greater Portland\nYoung Families\nhttps://
 jewishportland.org/young-families/erev-new-years-eve-at-noon-193024\n\nEre
 v New Year's at Noon & Pool Float
DTSTART;TZID=America/Los_Angeles:20161230T110000
DTEND;TZID=America/Los_Angeles:20161230T140000
END:VEVENT
END:VCALENDAR
