BEGIN:VCALENDAR
PRODID:-//eluceo/ical//2.0/EN
VERSION:2.0
CALSCALE:GREGORIAN
BEGIN:VEVENT
UID:775b078b41d0cfb6f93dbff33abf9bc7
DTSTAMP:20260419T140409Z
SUMMARY:Erev Rosh Hashanah Tot Service
DESCRIPTION:Jewish Federation of Greater Portland\nYoung Families\nhttps://
 jewishportland.org/young-families/erev-rosh-hashanah-tot-service-150170172
 3-241419\n\nHigh Holidays Service for families with young children
DTSTART;TZID=America/Los_Angeles:20170920T173000
DTEND;TZID=America/Los_Angeles:20170920T180000
END:VEVENT
END:VCALENDAR
