BEGIN:VCALENDAR
PRODID:-//eluceo/ical//2.0/EN
VERSION:2.0
CALSCALE:GREGORIAN
BEGIN:VEVENT
UID:1691c102f5dd719035d058908c43df1e
DTSTAMP:20260419T171849Z
SUMMARY:Evolve Hadassah: A Taste of Honey
DESCRIPTION:Jewish Federation of Greater Portland\nYoung Families\nhttps://
 jewishportland.org/young-families/evolve-hadassah-a-taste-of-honey-1755197
 487-498260\n\nJoin us for an engaging presentation on the fascinating worl
 d of beekeeping. Learn about the importance of bees\, their role in the ec
 osystem\, and how honey is made. Please bring your enthusiasm and curiosit
 y... as well as the most unusual jar of honey you can find and a crisp\, f
 resh apple. Ring in the new year with new and old friends at Hadassah. All
  ages welcome!
DTSTART;TZID=America/Los_Angeles:20250918T190000
DTEND;TZID=America/Los_Angeles:20250918T210000
END:VEVENT
END:VCALENDAR
