BEGIN:VCALENDAR
PRODID:-//eluceo/ical//2.0/EN
VERSION:2.0
CALSCALE:GREGORIAN
BEGIN:VEVENT
UID:b9fd51e10b889a56c8a05ad47f22896e
DTSTAMP:20260422T062437Z
SUMMARY:Family Camp at BB Camp
DESCRIPTION:Jewish Federation of Greater Portland\nYoung Families\nhttps://
 jewishportland.org/young-families/family-camp-at-bb-camp-1443981667-167246
 \n\nEnjoy the weekend at B’nai B’rith Camp on the Oregon coast with yo
 ur family. 
DTSTART;TZID=America/Los_Angeles:20160513T170000
DTEND;TZID=America/Los_Angeles:20160515T140000
END:VEVENT
END:VCALENDAR
