BEGIN:VCALENDAR
PRODID:-//eluceo/ical//2.0/EN
VERSION:2.0
CALSCALE:GREGORIAN
BEGIN:VEVENT
UID:74392288f42cc1c4f5b1b4cbda980336
DTSTAMP:20260425T225601Z
SUMMARY:Family Camp at BB Camp
DESCRIPTION:Jewish Federation of Greater Portland\nYoung Families\nhttps://
 jewishportland.org/young-families/family-camp-at-bb-camp-may26-511304\n\nS
 pring Family Camp: May 1-3\n\n\nDiscover the magic of BB Camp with your fa
 mily and friends! Throughout the year\, we host Family Camp weekends where
  families from across the Pacific Northwest come together for unforgettabl
 e experiences. Parents reminisce about their childhood camping memories wh
 ile children create their own for the first time. Whether it’s your firs
 t camp experience or a return visit\, Family Camp offers a chance to disco
 nnect from daily life\, reconnect with friends\, and mos...
DTSTART;TZID=America/Los_Angeles:20260501T130000
DTEND;TZID=America/Los_Angeles:20260503T130000
END:VEVENT
END:VCALENDAR
