BEGIN:VCALENDAR
PRODID:-//eluceo/ical//2.0/EN
VERSION:2.0
CALSCALE:GREGORIAN
BEGIN:VEVENT
UID:f3b3c8378e4a8bc039474c1193e77013
DTSTAMP:20260424T212257Z
SUMMARY:Family Concert with Kim Schneiderman
DESCRIPTION:Jewish Federation of Greater Portland\nYoung Families\nhttps://
 jewishportland.org/young-families/family-concert-with-kimshneiderman-14514
 34809-176576\n\nFamily Concert by Kim Schneiderman featuring Tu B'Shvat So
 ngs along with her other hits!
DTSTART;TZID=America/Los_Angeles:20160124T103000
DTEND;TZID=America/Los_Angeles:20160124T113000
END:VEVENT
END:VCALENDAR
