BEGIN:VCALENDAR
PRODID:-//eluceo/ical//2.0/EN
VERSION:2.0
CALSCALE:GREGORIAN
BEGIN:VEVENT
UID:83de62a4f906f014cd76003a2f280274
DTSTAMP:20260423T083052Z
SUMMARY:Family Shabbat Service at P'nai Or
DESCRIPTION:Jewish Federation of Greater Portland\nYoung Families\nhttps://
 jewishportland.org/young-families/family-shabbat-service-167721\n\nThis ho
 ur-long service is especially designed for families and children and is fo
 llowed by activities based on parashah Noach which include storytelling an
 d dramatic midrash.
DTSTART;TZID=America/Los_Angeles:20151017T100000
DTEND;TZID=America/Los_Angeles:20151017T120000
END:VEVENT
END:VCALENDAR
