BEGIN:VCALENDAR
PRODID:-//eluceo/ical//2.0/EN
VERSION:2.0
CALSCALE:GREGORIAN
BEGIN:VEVENT
UID:9b0b91d809398afc4ae5a3a3335e468c
DTSTAMP:20260422T123504Z
SUMMARY:Friday Night Community Shabbat Dinner
DESCRIPTION:Jewish Federation of Greater Portland\nYoung Families\nhttps://
 jewishportland.org/young-families/friday-night-community-shabbat-dinner-14
 10801166-106116\n\nFriday night community Shabbat dinner.
DTSTART;TZID=America/Los_Angeles:20150612T183000
DTEND;TZID=America/Los_Angeles:20150612T203000
END:VEVENT
END:VCALENDAR
