BEGIN:VCALENDAR
PRODID:-//eluceo/ical//2.0/EN
VERSION:2.0
CALSCALE:GREGORIAN
BEGIN:VEVENT
UID:63dc43b6f219fe7a8783d75adc3b610c
DTSTAMP:20260424T100900Z
SUMMARY:Grade K-6th Yom Kippur Family Service with Congregation Neveh Shalo
 m
DESCRIPTION:Jewish Federation of Greater Portland\nYoung Families\nhttps://
 jewishportland.org/young-families/grade-k-6th-yom-kippur-family-service-wi
 th-congregation-neveh-shalom-499207\n\nYOM KIPPUR\nTHURSDAY\, OCTOBER 2\n\
 n11:00am Grade K-6th Family Service\, Stampfer Chapel\n\nRegistration is r
 equired\, please get your tickets here: https://members.nevehshalom.org/fo
 rm/hhd5786
DTSTART;TZID=America/Los_Angeles:20251002T110000
DTEND;TZID=America/Los_Angeles:20251002T123000
END:VEVENT
END:VCALENDAR
