BEGIN:VCALENDAR
PRODID:-//eluceo/ical//2.0/EN
VERSION:2.0
CALSCALE:GREGORIAN
BEGIN:VEVENT
UID:021bfde8e0281990da3a0cb632a004ed
DTSTAMP:20260424T093816Z
SUMMARY:Gresham Chanukah Celebration
DESCRIPTION:Jewish Federation of Greater Portland\nYoung Families\nhttps://
 jewishportland.org/young-families/gresham-chanukah-celebration-1669586074-
 422500\n\nSecond annual Giant Menorah lighting and Chanukah celebrationLig
 hting of giant Menorah Chanukah music Donuts and chocolate coins.Together 
 we CAN make a difference! Bring a food can and help construct a Canorah [M
 enorah made of cans] which will be donated to  local food pantries.Free ev
 ent. All are welcome!
DTSTART;TZID=America/Los_Angeles:20221218T163000
DTEND;TZID=America/Los_Angeles:20221218T183000
END:VEVENT
END:VCALENDAR
