BEGIN:VCALENDAR
PRODID:-//eluceo/ical//2.0/EN
VERSION:2.0
CALSCALE:GREGORIAN
BEGIN:VEVENT
UID:963257b28f28d9a2d6d6edd2ee3c1ebf
DTSTAMP:20260424T082847Z
SUMMARY:Intro to Judaism
DESCRIPTION:Jewish Federation of Greater Portland\nYoung Families\nhttps://
 jewishportland.org/young-families/intro-to-judaism-273045\n\nIntro to Juda
 ism\n\nThe Oregon Board of Rabbis “Intro to Judaism Class\,” Fall 2018
  Session begins Thurs\, Aug. 30\n\nThis 18-week course is taught by member
 s of The Oregon Board of Rabbis\, representing a variety of Jewish affilia
 tion. A carefully constructed curriculum includes Jewish history\, life cy
 cle events\, holidays\, ritual and daily practice\, theology\, study of To
 rah and contemporary Jewish America.\n\nThis class\, in itself\, is not a 
 conversion class. Students come from a variety of ...
DTSTART;TZID=America/Los_Angeles:20180830T190000
DTEND;TZID=America/Los_Angeles:20180830T210000
END:VEVENT
END:VCALENDAR
