BEGIN:VCALENDAR
PRODID:-//eluceo/ical//2.0/EN
VERSION:2.0
CALSCALE:GREGORIAN
BEGIN:VEVENT
UID:e932f380e3d0a8bec91b0f6c65b90c11
DTSTAMP:20260421T055308Z
SUMMARY:Israel Film Series - I Had a Dream
DESCRIPTION:Jewish Federation of Greater Portland\nYoung Families\nhttps://
 jewishportland.org/young-families/israel-film-series-i-had-a-dream-248053\
 n\nThe MJCC proudly presents the 4th Annual Israeli Film Series featur
 ing three extraordinary films. Each film has s theme centered on Immigrati
 on and was selected for its quality and ability to excite\, delight\, enli
 ghten\, provoke and/or move viewers to tears or laughter. You will not wan
 t to miss out on these films! \n\nI Had A Dream\n\nThe extraordinary life
  story of Yona Bugale who worked ceaselessly as a teacher and community le
 ader\, promoting connections with the State of Israel and wi...
DTSTART;TZID=America/Los_Angeles:20171017T190000
DTEND;TZID=America/Los_Angeles:20171017T210000
END:VEVENT
END:VCALENDAR
