BEGIN:VCALENDAR
PRODID:-//eluceo/ical//2.0/EN
VERSION:2.0
CALSCALE:GREGORIAN
BEGIN:VEVENT
UID:4a58869b447f1b28dc423e5402950b63
DTSTAMP:20260420T005211Z
SUMMARY:Kids Mega Challah Bake!
DESCRIPTION:Jewish Federation of Greater Portland\nYoung Families\nhttps://
 jewishportland.org/young-families/kids-mega-challah-bake-1452643193-178079
 \n\nJoin us an afternoon of Challah Baking Fun! Kids will mix\, shape\, br
 aid & top their own challah with children from all over the Portland area.
DTSTART;TZID=America/Los_Angeles:20160228T150000
DTEND;TZID=America/Los_Angeles:20160228T163000
END:VEVENT
END:VCALENDAR
