BEGIN:VCALENDAR
PRODID:-//eluceo/ical//2.0/EN
VERSION:2.0
CALSCALE:GREGORIAN
BEGIN:VEVENT
UID:792518abf81ff045c10cc38073884f6c
DTSTAMP:20260419T170608Z
SUMMARY:BB CAMP'S KIDS NIGHT IN
DESCRIPTION:Jewish Federation of Greater Portland\nYoung Families\nhttps://
 jewishportland.org/young-families/kids-night-in1-420368\n\nKIDS NIGHT IN\n
 When: December 17| February 8 | April 12\, 6:00-9:00pm\n\nWhere: TBD\n\nW
 ho should come: Drop off your campers in K – 5th grade\n\nCost: $18 per 
 child – register at https://bbcamp.org/kids-night-in/\n\nReady for some
  R & R with your loved ones? Drop your child off for a fun evening with BB
  Camp! Crafts\, pizza dinner\, and games will be enjoyed by your camper. S
 end all the kids in the neighborhood and have a grown-up’s night in too!
 \n\nQuestions? Email shagen@bbcamp.org 
DTSTART;TZID=America/Los_Angeles:20221217T180000
DTEND;TZID=America/Los_Angeles:20221217T210000
END:VEVENT
END:VCALENDAR
