BEGIN:VCALENDAR
PRODID:-//eluceo/ical//2.0/EN
VERSION:2.0
CALSCALE:GREGORIAN
BEGIN:VEVENT
UID:fffde29c5ebe66abc2a9ec35fb84c652
DTSTAMP:20260423T113021Z
SUMMARY:Kids Shabbat Program
DESCRIPTION:Jewish Federation of Greater Portland\nYoung Families\nhttps://
 jewishportland.org/young-families/kids-shabbat-program-1418150349-127859\n
 \nKids\, ages 2-10\,  will enjoy a variety of Jewish and Parsha themed act
 ivities\, age appropriate for each group. Snacks\, songs\, games and a pup
 pet show too! Now twice monthly\, on the second and fourth Shabbat of each
  month!
DTSTART;TZID=America/Los_Angeles:20141213T103000
DTEND;TZID=America/Los_Angeles:20141213T143000
END:VEVENT
END:VCALENDAR
