BEGIN:VCALENDAR
PRODID:-//eluceo/ical//2.0/EN
VERSION:2.0
CALSCALE:GREGORIAN
BEGIN:VEVENT
UID:cc61999c934401ed54279125dbdd78df
DTSTAMP:20260423T052957Z
SUMMARY:Kindergarten / New Family - ALIYAH Tours
DESCRIPTION:Jewish Federation of Greater Portland\nYoung Families\nhttps://
 jewishportland.org/young-families/kindergartennew-family-aliyah-tours1-263
 167\n\nKindergarten / New Family - ALIYAH Tours\n\nJoin Director Mel Berwi
 n for a tour of ALIYAH.\n\nContact Mel Berwin to RSVP.
DTSTART;TZID=America/Los_Angeles:20180321T163000
DTEND;TZID=America/Los_Angeles:20180321T183000
END:VEVENT
END:VCALENDAR
