BEGIN:VCALENDAR
PRODID:-//eluceo/ical//2.0/EN
VERSION:2.0
CALSCALE:GREGORIAN
BEGIN:VEVENT
UID:31f5cf18a7ca3df1bd25663f5a10e7e1
DTSTAMP:20260425T122840Z
SUMMARY:Kol Nidre Tot Service
DESCRIPTION:Jewish Federation of Greater Portland\nYoung Families\nhttps://
 jewishportland.org/young-families/kol-nidre-tot-service-1691171254-444969\
 n\nKol Nidre Tot Service\n4:00 PM\nIn-Person ONLY\nCBI Plaza (weather perm
 itting)\n\nA Kol Nidre gathering for our littlest community members (and t
 heir grownups).\n\nAll who wish to join Congregation Beth Israel for the H
 igh Holidays are welcome to do so\; please register in advance at https://
 www.bethisrael-pdx.org/high-holidays-guests/
DTSTART;TZID=America/Los_Angeles:20230924T160000
DTEND;TZID=America/Los_Angeles:20230924T170000
END:VEVENT
END:VCALENDAR
