BEGIN:VCALENDAR
PRODID:-//eluceo/ical//2.0/EN
VERSION:2.0
CALSCALE:GREGORIAN
BEGIN:VEVENT
UID:6a84ac293873a35a0b3f61e0b97f9646
DTSTAMP:20260420T065415Z
SUMMARY:Lamaze Childbirth Class
DESCRIPTION:Jewish Federation of Greater Portland\nYoung Families\nhttps://
 jewishportland.org/young-families/lamaze-childbirth-class-216318\n\nExpect
 ant mothers and their partners will learn about and prepare for birth thro
 ugh hands-on education. Practice comfort techniques and learn about the ph
 ysiology of birth\, routine medical procedures\, breastfeeding and informe
 d consent in a dynamic group setting.
DTSTART;TZID=America/Los_Angeles:20170115T090000
DTEND;TZID=America/Los_Angeles:20170115T113000
END:VEVENT
END:VCALENDAR
