BEGIN:VCALENDAR
PRODID:-//eluceo/ical//2.0/EN
VERSION:2.0
CALSCALE:GREGORIAN
BEGIN:VEVENT
UID:1c480c6c092ffa4433b874302c2a0ac3
DTSTAMP:20260426T034518Z
SUMMARY:Learn about the High Holy Days with PJ Library
DESCRIPTION:Jewish Federation of Greater Portland\nYoung Families\nhttps://
 jewishportland.org/young-families/learn-about-the-high-holy-days-with-pj-l
 ibrary-285130\n\nLearn about the High Holy Days with PJ Library \n\nJoin 
 PJ Library at the Garden Home Library as we learn about the High Holy Days
  with a craft and stories! \n(in the same parking lot as Thriftway)
DTSTART;TZID=America/Los_Angeles:20180912T150000
DTEND;TZID=America/Los_Angeles:20180912T154500
END:VEVENT
END:VCALENDAR
