BEGIN:VCALENDAR
PRODID:-//eluceo/ical//2.0/EN
VERSION:2.0
CALSCALE:GREGORIAN
BEGIN:VEVENT
UID:21ba9b10df9542032eb31d1e92b2a45b
DTSTAMP:20260421T154614Z
SUMMARY:Lev El Lev Music for Grandparents and Grandkids
DESCRIPTION:Jewish Federation of Greater Portland\nYoung Families\nhttps://
 jewishportland.org/young-families/lev-el-lev-511293\n\nGrandparents/grandf
 riends\, join us with your grandbabies (ages 0-5) for Lev el Lev (Heart 
 to Heart)\, a joyful intergenerational music program!\n\n\nLev el Lev bri
 ngs generations together through Jewish song\, movement\, and hands-on mus
 ic—sparking connection\, wonder\, and joy. Led by Kim Schneiderman\, BB
 360 Chief Jewish Life Officer\, each 45-minute class features warm-up son
 gs\, finger plays\, creative movement\, instrument exploration\, and beaut
 iful singing. From Hebrew rhymes and Yiddish t...
DTSTART;TZID=America/Los_Angeles:20260410T093000
DTEND;TZID=America/Los_Angeles:20260410T101500
END:VEVENT
END:VCALENDAR
