BEGIN:VCALENDAR
PRODID:-//eluceo/ical//2.0/EN
VERSION:2.0
CALSCALE:GREGORIAN
BEGIN:VEVENT
UID:6ae4ee6e9b57506e5b4be86892503f7e
DTSTAMP:20260420T152510Z
SUMMARY:Live the Chai Life! - A Purim Celebration
DESCRIPTION:Jewish Federation of Greater Portland\nYoung Families\nhttps://
 jewishportland.org/young-families/live-the-chai-life-262860\n\nLive the Ch
 ai Life! - A Purim Celebration
DTSTART;TZID=America/Los_Angeles:20180228T180000
DTEND;TZID=America/Los_Angeles:20180228T203000
END:VEVENT
END:VCALENDAR
