BEGIN:VCALENDAR
PRODID:-//eluceo/ical//2.0/EN
VERSION:2.0
CALSCALE:GREGORIAN
BEGIN:VEVENT
UID:1be2665cb556c06c30f00d6bc5e5be6c
DTSTAMP:20260419T140229Z
SUMMARY:Mini Mensches Tot Shabbat
DESCRIPTION:Jewish Federation of Greater Portland\nYoung Families\nhttps://
 jewishportland.org/young-families/mini-mensches-tot-shabbat-1659727339-414
 272\n\nWelcome Shabbat with singing\, dancing\, and sweetness! We will gat
 her together inside in Pollin Chapel to sing Shabbat songs and end with a 
 parade with our stuffed Torahs. \n\nWe'll have challah and juice following
  for the kids\, with plenty of space (and toys!) for them to play while pa
 rents have time to spend together getting to know one another (and enjoy s
 ome coffee).\n\nMini Mensches is geared towards kids ages 0-5 and welcomes
  the entire community at our events. Invite your friends!
DTSTART;TZID=America/Los_Angeles:20221203T090000
DTEND;TZID=America/Los_Angeles:20221203T100000
END:VEVENT
END:VCALENDAR
