BEGIN:VCALENDAR
PRODID:-//eluceo/ical//2.0/EN
VERSION:2.0
CALSCALE:GREGORIAN
BEGIN:VEVENT
UID:9f8909b74a4942975e3318be2c9fc655
DTSTAMP:20260425T170500Z
SUMMARY:Mitzvah Morning
DESCRIPTION:Jewish Federation of Greater Portland\nYoung Families\nhttps://
 jewishportland.org/young-families/mitzvah-morning-362231\n\nStart 5781 in 
 service of others by making meal sacks and/or collecting toiletries to sup
 port those facing food & housing insecurity. Contactless drop-off Sunday m
 orning\, September 27\, 10 am - 12 noon. Volunteer at home on behalf of th
 e community and make a difference in the lives of others. Register with yo
 ur commitment and drop off location. Details at: https://www.jewishportla
 nd.org/mitzvahmorning
DTSTART;TZID=America/Los_Angeles:20200927T100000
DTEND;TZID=America/Los_Angeles:20200927T120000
END:VEVENT
END:VCALENDAR
