BEGIN:VCALENDAR
PRODID:-//eluceo/ical//2.0/EN
VERSION:2.0
CALSCALE:GREGORIAN
BEGIN:VEVENT
UID:63d35444056f8a70063d8e9c0b356f41
DTSTAMP:20260420T071539Z
SUMMARY:MJCC Indoor Playground
DESCRIPTION:Jewish Federation of Greater Portland\nYoung Families\nhttps://
 jewishportland.org/young-families/mjcc-indoor-playground-489090\n\nPlay in
  our climate-controlled Sportsplex! Toys and equipment available\, includ
 ing a trampoline and gymnastics equipment. Adult must supervise their chi
 ld(ren) while at Indoor Playground.\n \n\nMonday\, Wednesday and Friday\n
 10 am - 12 pm\nCost: $12. Member Cost: Free
DTSTART;TZID=America/Los_Angeles:20250331T100000
DTEND;TZID=America/Los_Angeles:20250331T120000
END:VEVENT
END:VCALENDAR
