BEGIN:VCALENDAR
PRODID:-//eluceo/ical//2.0/EN
VERSION:2.0
CALSCALE:GREGORIAN
BEGIN:VEVENT
UID:19903409da260eeed75d1957faef271a
DTSTAMP:20260420T085748Z
SUMMARY:MJCC Vacation Day Camp
DESCRIPTION:Jewish Federation of Greater Portland\nYoung Families\nhttps://
 jewishportland.org/young-families/mjcc-vacation-day-camp411-489076\n\nNeed
  something for your kids to do when school is out of session?\nKeep them b
 usy and having fun at the MJCC with sports\, gymnastics\,\narts and crafts
 \, games\, and more! Kids must be potty-trained. \n\nSpace is limited! 
 Register now!
DTSTART;TZID=America/Los_Angeles:20250411T083000
DTEND;TZID=America/Los_Angeles:20250411T173000
END:VEVENT
END:VCALENDAR
