BEGIN:VCALENDAR
PRODID:-//eluceo/ical//2.0/EN
VERSION:2.0
CALSCALE:GREGORIAN
BEGIN:VEVENT
UID:5fc4d38c39acf58ef8df38461ceb0754
DTSTAMP:20260425T210745Z
SUMMARY:Model Matzah Bakery Family Workshop
DESCRIPTION:Jewish Federation of Greater Portland\nYoung Families\nhttps://
 jewishportland.org/young-families/model-matzah-bakery-family-workshop-1426
 800248-139122\n\nJoin us for a fun hands on workshop to learn how matzah i
 s made and make your own to take home!
DTSTART;TZID=America/Los_Angeles:20150329T100000
DTEND;TZID=America/Los_Angeles:20150329T110000
END:VEVENT
END:VCALENDAR
