BEGIN:VCALENDAR
PRODID:-//eluceo/ical//2.0/EN
VERSION:2.0
CALSCALE:GREGORIAN
BEGIN:VEVENT
UID:fdb823ccf558bf48e261fa0f7fea99d1
DTSTAMP:20260421T201457Z
SUMMARY:Music From The Sole
DESCRIPTION:Jewish Federation of Greater Portland\nYoung Families\nhttps://
 jewishportland.org/young-families/music-from-the-sole-1707161477-459209\n\
 nMJCC and White Bird Dance Collective have partnered to bring Music From T
 he Sole to our community. Join us for a body percussion workshop with prof
 essional dancers. This free workshop is for kids 9 years and up and their 
 families.
DTSTART;TZID=America/Los_Angeles:20240228T170000
DTEND;TZID=America/Los_Angeles:20240228T181500
END:VEVENT
END:VCALENDAR
