BEGIN:VCALENDAR
PRODID:-//eluceo/ical//2.0/EN
VERSION:2.0
CALSCALE:GREGORIAN
BEGIN:VEVENT
UID:11b1367d41cd9a896eb752eda85b8848
DTSTAMP:20260420T060448Z
SUMMARY:Kol Nidre Service - Neveh Shalom
DESCRIPTION:Jewish Federation of Greater Portland\nYoung Families\nhttps://
 jewishportland.org/young-families/neveh-shalom-kol-nidre-service-206320\n\
 nHigh Holiday services at Neveh Shalom\, an open and egalitarian community
 \, are led by Rabbi David Kosak\, Cantor Deborah Bletstein and Rabbi Eve P
 osen.
DTSTART;TZID=America/Los_Angeles:20161011T180000
DTEND;TZID=America/Los_Angeles:20161011T210000
END:VEVENT
END:VCALENDAR
