BEGIN:VCALENDAR
PRODID:-//eluceo/ical//2.0/EN
VERSION:2.0
CALSCALE:GREGORIAN
BEGIN:VEVENT
UID:b328682f5dc93d19ea4b84801dac4d32
DTSTAMP:20260420T124123Z
SUMMARY:Congregation Neveh Shalom Tot Shabbat
DESCRIPTION:Jewish Federation of Greater Portland\nYoung Families\nhttps://
 jewishportland.org/young-families/neveh-shalom-tot-shabbat\n\nJoin us for 
 this interactive service for families with kids 5 and under.
DTSTART;TZID=America/Los_Angeles:20131102T101500
DTEND;TZID=America/Los_Angeles:20131102T110000
END:VEVENT
END:VCALENDAR
