BEGIN:VCALENDAR
PRODID:-//eluceo/ical//2.0/EN
VERSION:2.0
CALSCALE:GREGORIAN
BEGIN:VEVENT
UID:f56735a399afafa902bb4a204ddf377d
DTSTAMP:20260422T233001Z
SUMMARY:New Member Dinner at Beit Haverim
DESCRIPTION:Jewish Federation of Greater Portland\nYoung Families\nhttps://
 jewishportland.org/young-families/new-member-dinner-at-beit-haverim-144254
 5589-165910\n\nBeit Haverim welcomes our new members by providing dinner b
 efore Shabbat services.
DTSTART;TZID=America/Los_Angeles:20151106T180000
DTEND;TZID=America/Los_Angeles:20151106T190000
END:VEVENT
END:VCALENDAR
