BEGIN:VCALENDAR
PRODID:-//eluceo/ical//2.0/EN
VERSION:2.0
CALSCALE:GREGORIAN
BEGIN:VEVENT
UID:f29d597f74dab2c9d4f8841edc9a64bf
DTSTAMP:20260422T105954Z
SUMMARY:OJM Tallitot Workshop
DESCRIPTION:Jewish Federation of Greater Portland\nYoung Families\nhttps://
 jewishportland.org/young-families/ojm-tallitot-workshop\n\nOJM Tallitot Wo
 rkshop
DTSTART;TZID=America/Los_Angeles:20131110T130000
DTEND;TZID=America/Los_Angeles:20131110T150000
END:VEVENT
END:VCALENDAR
