BEGIN:VCALENDAR
PRODID:-//eluceo/ical//2.0/EN
VERSION:2.0
CALSCALE:GREGORIAN
BEGIN:VEVENT
UID:ddc5c1227e42e05806a29d85329b6138
DTSTAMP:20260421T135159Z
SUMMARY:PDXIsrael2020 ONLINE Trip Information Session
DESCRIPTION:Jewish Federation of Greater Portland\nYoung Families\nhttps://
 jewishportland.org/young-families/pdxisrael2020-online-trip-information-se
 ssion-289170\n\nThe Jewish Federation of Greater Portland celebrates its c
 entennial in 2020 with YOU! Join us for an information session to learn mo
 re about this once-in-a-century community trip to Israel.\n\nPlease email 
 pdxisrael2020@jewishportland.org to RSVP and get login/dial-in information
 .
DTSTART;TZID=America/Los_Angeles:20181019T083000
DTEND;TZID=America/Los_Angeles:20181019T100000
END:VEVENT
END:VCALENDAR
