BEGIN:VCALENDAR
PRODID:-//eluceo/ical//2.0/EN
VERSION:2.0
CALSCALE:GREGORIAN
BEGIN:VEVENT
UID:a2fc665318f5be44352c8c95bdb142e2
DTSTAMP:20260424T020038Z
SUMMARY:PJ Library MLK Day of Service for Preschoolers
DESCRIPTION:Jewish Federation of Greater Portland\nYoung Families\nhttps://
 jewishportland.org/young-families/pj-library-mlk-day-148586\n\nDo Good wit
 h your Preschooler! A program for kids 0-5 and their grownup friends!
DTSTART;TZID=America/Los_Angeles:20160118T100000
DTEND;TZID=America/Los_Angeles:20160118T113000
END:VEVENT
END:VCALENDAR
