BEGIN:VCALENDAR
PRODID:-//eluceo/ical//2.0/EN
VERSION:2.0
CALSCALE:GREGORIAN
BEGIN:VEVENT
UID:6050f35a6b1fe007e3892ea78c5a847e
DTSTAMP:20260421T123124Z
SUMMARY:PJA & PJ Library Present: PJ Library Author Aubrey Davis
DESCRIPTION:Jewish Federation of Greater Portland\nYoung Families\nhttps://
 jewishportland.org/young-families/pja-pj-library-present-pj-library-author
 -aubrey-davis-119409\n\nCome hear author Aubrey Davis tell stories and sha
 re about his writing process.  For children ages preschool through 2nd gra
 de and their families.
DTSTART;TZID=America/Los_Angeles:20141113T090000
DTEND;TZID=America/Los_Angeles:20141113T100000
END:VEVENT
END:VCALENDAR
