BEGIN:VCALENDAR
PRODID:-//eluceo/ical//2.0/EN
VERSION:2.0
CALSCALE:GREGORIAN
BEGIN:VEVENT
UID:2aa511e1d5925a00597f8d9e3966cf09
DTSTAMP:20260422T121142Z
SUMMARY:Pre-Passover Treasure Hunt for Chametz and Bonfire
DESCRIPTION:Jewish Federation of Greater Portland\nYoung Families\nhttps://
 jewishportland.org/young-families/pre-passover-treasure-hunt-for-chametz-a
 nd-bonfire-463398\n\nPre-Passover Treasure Hunt for Chametz followed by a
  Bonfire\n\nSunday\, April 21 from 2 - 2:45 pm.\n\nA short and sweet even
 t for families with young children and all other ages. Physically search w
 ith a candle and feather\, and search inside with your inner quiet\, intui
 tion and discernment to reach for what we can discard at this time of year
  as we seek our deepest freedom and joy in the midst of a world in a lot o
 f turmoil. A Passover Story will be shared.\n\nHeld at Gesher\, with Rabb
 is La...
DTSTART;TZID=America/Los_Angeles:20240421T140000
DTEND;TZID=America/Los_Angeles:20240421T144500
END:VEVENT
END:VCALENDAR
