BEGIN:VCALENDAR
PRODID:-//eluceo/ical//2.0/EN
VERSION:2.0
CALSCALE:GREGORIAN
BEGIN:VEVENT
UID:933a8dea1a7c1393db3746258dc0dcd8
DTSTAMP:20260423T195911Z
SUMMARY:Preschool Family Education Program\, November
DESCRIPTION:Jewish Federation of Greater Portland\nYoung Families\nhttps://
 jewishportland.org/young-families/preschool-family-education-program-novem
 ber-120743\n\nJoin us for a multi-faceted event on these select Sundays wh
 ich carry different themes: November 9- Thankfulness
DTSTART;TZID=America/Los_Angeles:20141109T103000
DTEND;TZID=America/Los_Angeles:20141109T123000
END:VEVENT
END:VCALENDAR
