BEGIN:VCALENDAR
PRODID:-//eluceo/ical//2.0/EN
VERSION:2.0
CALSCALE:GREGORIAN
BEGIN:VEVENT
UID:b4b1c1a6db1062e676bd431e55eb60b4
DTSTAMP:20260419T213948Z
SUMMARY:Pride 2022!
DESCRIPTION:Jewish Federation of Greater Portland\nYoung Families\nhttps://
 jewishportland.org/young-families/pride-2022-1653337320-407811\n\nJoin the
  Jewish community as we march together at Pride 2022!\n\nFollow along on t
 he Jewish Federation FB page for our gathering location closer to the day!
DTSTART;TZID=America/Los_Angeles:20220619T110000
DTEND;TZID=America/Los_Angeles:20220619T130000
END:VEVENT
END:VCALENDAR
