BEGIN:VCALENDAR
PRODID:-//eluceo/ical//2.0/EN
VERSION:2.0
CALSCALE:GREGORIAN
BEGIN:VEVENT
UID:6659acd3a4bf966e8d716f0c74aee228
DTSTAMP:20260419T212637Z
SUMMARY:Purim at Kesser - Breakfast\, Parade\, Shpiel
DESCRIPTION:Jewish Federation of Greater Portland\nYoung Families\nhttps://
 jewishportland.org/young-families/purim-at-kesser---breakfast-parade-shpie
 l-1709164957-461053\n\nFor complete schedule:\n\nhttps://images.shulcloud.
 com/13543/665122_orig.jpg\n\nSunday\, March 24\n\n8:40 AM2nd Megillah\n9:3
 0 AMBreakfast\n10:00 AMKids Costume Parade\n10:15 AMPurim Shpiel
DTSTART;TZID=America/Los_Angeles:20240324T084000
DTEND;TZID=America/Los_Angeles:20240324T110000
END:VEVENT
END:VCALENDAR
