BEGIN:VCALENDAR
PRODID:-//eluceo/ical//2.0/EN
VERSION:2.0
CALSCALE:GREGORIAN
BEGIN:VEVENT
UID:9bb29e2b0ec60f81f64c87af4e675e65
DTSTAMP:20260421T140540Z
SUMMARY:Purim Celebration and Dinner at Shir Tikvah
DESCRIPTION:Jewish Federation of Greater Portland\nYoung Families\nhttps://
 jewishportland.org/young-families/purim-celebration-and-dinner-at-shir-tik
 vah-262569\n\nGet out your wildest costume and join Shir Tikvah for a fest
 ive meal and family-friendly reading of the Megillah.
DTSTART;TZID=America/Los_Angeles:20180228T180000
DTEND;TZID=America/Los_Angeles:20180228T193000
END:VEVENT
END:VCALENDAR
