BEGIN:VCALENDAR
PRODID:-//eluceo/ical//2.0/EN
VERSION:2.0
CALSCALE:GREGORIAN
BEGIN:VEVENT
UID:cd7a0954528827386b7151ac4519db1f
DTSTAMP:20260423T080405Z
SUMMARY:Redemption Song: A Second Night Seder
DESCRIPTION:Jewish Federation of Greater Portland\nYoung Families\nhttps://
 jewishportland.org/young-families/redemption-song-a-second-night-passover-
 seder-225493\n\nRedemption Song: A Second Night Seder
DTSTART;TZID=America/Los_Angeles:20170411T183000
DTEND;TZID=America/Los_Angeles:20170411T213000
END:VEVENT
END:VCALENDAR
