BEGIN:VCALENDAR
PRODID:-//eluceo/ical//2.0/EN
VERSION:2.0
CALSCALE:GREGORIAN
BEGIN:VEVENT
UID:f8aa9bf412b38e9c2b22cf3eb1d405e9
DTSTAMP:20260420T173707Z
SUMMARY:Rosh Hashanah Celebration at EJC
DESCRIPTION:Jewish Federation of Greater Portland\nYoung Families\nhttps://
 jewishportland.org/young-families/rosh-hashanah-celebration-at-ejc-1726182
 680-476953\n\nCome to Eastside Jewish Commons for a family celebration of 
 Rosh Hashanah! The fun begins with storytime and then music\, crafts\, gam
 es\, and even a wading pool for Tashlich! And of course we'll hear the Sho
 far!\n\n$10/per family\, no one turned away for lack of funds.
DTSTART;TZID=America/Los_Angeles:20241006T103000
DTEND;TZID=America/Los_Angeles:20241006T123000
END:VEVENT
END:VCALENDAR
