BEGIN:VCALENDAR
PRODID:-//eluceo/ical//2.0/EN
VERSION:2.0
CALSCALE:GREGORIAN
BEGIN:VEVENT
UID:a1a73de0dcc6990ca713c33672ed8ccf
DTSTAMP:20260422T202710Z
SUMMARY:Shaba-lah Family Shabbat BBQ
DESCRIPTION:Jewish Federation of Greater Portland\nYoung Families\nhttps://
 jewishportland.org/young-families/shaba-lah-family-shabbat-bbq-194986\n\nB
 ring your family or join your child at camp for a special Shabbat.
DTSTART;TZID=America/Los_Angeles:20160715T153000
DTEND;TZID=America/Los_Angeles:20160715T170000
END:VEVENT
END:VCALENDAR
