BEGIN:VCALENDAR
PRODID:-//eluceo/ical//2.0/EN
VERSION:2.0
CALSCALE:GREGORIAN
BEGIN:VEVENT
UID:0bb5f22b323e3f1829f7e0d486c60453
DTSTAMP:20260422T014554Z
SUMMARY:Shabbat Dinner in Gesher's Sukkah
DESCRIPTION:Jewish Federation of Greater Portland\nYoung Families\nhttps://
 jewishportland.org/young-families/shabbat-dinner-in-geshers-sukkah-419470\
 n\nEnjoy a relaxing\, delicious Shabbat dinner in Gesher's whimsical Sukka
 h in the quietude of the forest\, a symbol of gratitude for all the gifts 
 of our lives\, and our need to care for those without  even a sukkah.  
 An opportunity to wave the lulav and etrog\, and savor the blessings of bo
 th abundance and fragility.  \n\nAll ages welcome.  RSVP necessary to R
 abbi Laurie at 503 246-5070 or gesher@comcast.net.\n\nDinner is a vegetari
 an pot-luck.  We appreciate what you will bring to share.\n...
DTSTART;TZID=America/Los_Angeles:20221014T173000
DTEND;TZID=America/Los_Angeles:20221014T203000
END:VEVENT
END:VCALENDAR
