BEGIN:VCALENDAR
PRODID:-//eluceo/ical//2.0/EN
VERSION:2.0
CALSCALE:GREGORIAN
BEGIN:VEVENT
UID:41806d2cb7cb65a5cdf9c8060decdcee
DTSTAMP:20260420T111217Z
SUMMARY:Shabbat on the Plaza
DESCRIPTION:Jewish Federation of Greater Portland\nYoung Families\nhttps://
 jewishportland.org/young-families/shabbat-on-the-plaza-2015-63807\n\nSunsh
 ine\, music\, friendly faces and Shabbat - what more do you need?
DTSTART;TZID=America/Los_Angeles:20150612T180000
DTEND;TZID=America/Los_Angeles:20150612T193000
END:VEVENT
END:VCALENDAR
