BEGIN:VCALENDAR
PRODID:-//eluceo/ical//2.0/EN
VERSION:2.0
CALSCALE:GREGORIAN
BEGIN:VEVENT
UID:617a8960846c20ba70d58f027a87ad9e
DTSTAMP:20260420T043525Z
SUMMARY:Shabbat Storytime
DESCRIPTION:Jewish Federation of Greater Portland\nYoung Families\nhttps://
 jewishportland.org/young-families/shabbat-storytime-1443805970-167156\n\nA
  Shabbat Storytime co-sponsored by PJ Library
DTSTART;TZID=America/Los_Angeles:20151010T094500
DTEND;TZID=America/Los_Angeles:20151010T101500
END:VEVENT
END:VCALENDAR
