BEGIN:VCALENDAR
PRODID:-//eluceo/ical//2.0/EN
VERSION:2.0
CALSCALE:GREGORIAN
BEGIN:VEVENT
UID:c8b838bba923b014752fbbc0e39ccf5d
DTSTAMP:20260419T184841Z
SUMMARY:Shabbat Storytime
DESCRIPTION:Jewish Federation of Greater Portland\nYoung Families\nhttps://
 jewishportland.org/young-families/shabbat-storytime-1493236292-228762\n\nJ
 oin us for a warm and welcoming Shabbat Storytime  - geared toward our you
 ngest friends and their caregivers.
DTSTART;TZID=America/Los_Angeles:20170513T094500
DTEND;TZID=America/Los_Angeles:20170513T101500
END:VEVENT
END:VCALENDAR
