BEGIN:VCALENDAR
PRODID:-//eluceo/ical//2.0/EN
VERSION:2.0
CALSCALE:GREGORIAN
BEGIN:VEVENT
UID:fe9300ce0e0745cd89425788ed69ddfa
DTSTAMP:20260422T043402Z
SUMMARY:Shavout Cheesecake Bake-off
DESCRIPTION:Jewish Federation of Greater Portland\nYoung Families\nhttps://
 jewishportland.org/young-families/shavout-cheesecake-bake-off-133144\n\nEn
 ter your best cheesecake in this fun contest or vote for your favorite. 
DTSTART;TZID=America/Los_Angeles:20150520T181500
DTEND;TZID=America/Los_Angeles:20150520T201500
END:VEVENT
END:VCALENDAR
