BEGIN:VCALENDAR
PRODID:-//eluceo/ical//2.0/EN
VERSION:2.0
CALSCALE:GREGORIAN
BEGIN:VEVENT
UID:5359d38cc55ff9e702eb0f9059e749e0
DTSTAMP:20260421T201842Z
SUMMARY:Shofar in the Park
DESCRIPTION:Jewish Federation of Greater Portland\nYoung Families\nhttps://
 jewishportland.org/young-families/shofar-in-the-park-1628861916-387801\n\n
 Chabad of Northeast Portland invites you to an outdoor Shofar service with
  meaning and melody!\n\nAt Wilshire Park\n\nRSVP required at JewishNorthEa
 st.com/ShofarPark
DTSTART;TZID=America/Los_Angeles:20210907T163000
DTEND;TZID=America/Los_Angeles:20210907T183000
END:VEVENT
END:VCALENDAR
